BEGIN:VCALENDAR
VERSION:2.0
PRODID:-//North Suburban Jewish Community Center - ECPv6.15.20//NONSGML v1.0//EN
CALSCALE:GREGORIAN
METHOD:PUBLISH
X-WR-CALNAME:North Suburban Jewish Community Center
X-ORIGINAL-URL:https://nsjcc.org
X-WR-CALDESC:Events for North Suburban Jewish Community Center
REFRESH-INTERVAL;VALUE=DURATION:PT1H
X-Robots-Tag:noindex
X-PUBLISHED-TTL:PT1H
BEGIN:VTIMEZONE
TZID:America/New_York
BEGIN:DAYLIGHT
TZOFFSETFROM:-0500
TZOFFSETTO:-0400
TZNAME:EDT
DTSTART:20250309T070000
END:DAYLIGHT
BEGIN:STANDARD
TZOFFSETFROM:-0400
TZOFFSETTO:-0500
TZNAME:EST
DTSTART:20251102T060000
END:STANDARD
BEGIN:DAYLIGHT
TZOFFSETFROM:-0500
TZOFFSETTO:-0400
TZNAME:EDT
DTSTART:20260308T070000
END:DAYLIGHT
BEGIN:STANDARD
TZOFFSETFROM:-0400
TZOFFSETTO:-0500
TZNAME:EST
DTSTART:20261101T060000
END:STANDARD
BEGIN:DAYLIGHT
TZOFFSETFROM:-0500
TZOFFSETTO:-0400
TZNAME:EDT
DTSTART:20270314T070000
END:DAYLIGHT
BEGIN:STANDARD
TZOFFSETFROM:-0400
TZOFFSETTO:-0500
TZNAME:EST
DTSTART:20271107T060000
END:STANDARD
END:VTIMEZONE
BEGIN:VEVENT
DTSTART;TZID=America/New_York:20260225T183000
DTEND;TZID=America/New_York:20260225T203000
DTSTAMP:20260421T140034
CREATED:20260114T130208Z
LAST-MODIFIED:20260224T002857Z
UID:10000032-1772044200-1772051400@nsjcc.org
SUMMARY:Butcher and Beer
DESCRIPTION:EVENT CANCELLED!! \n\n\n\n\n\n2026 Butcher and Beer\n\n\n\n\n\n\n\n\n    Name\n        *\n    \n    \n    First Name\n    \n\n\n    Last Name\n        *\n    \n    \n    Last Name\n    \n\n\n    Email\n        *\n    \n    \n    \n    \n\n\n    Phone\n        *\n    \n    \n    \n    \n\n\n    Address\n        \n    \n    \n\n	Address\n\n\n	\n		Street Address	\n		\n	Street Address\n\n	\n		Street Address Line 2	\n		\n	Street Address Line 2\n\n	\n		City	\n		\n	City\n\n	\n		State / Province	\n		\n	State / Province\n\n	\n		Postal / Zip Code	\n		\n	Postal / Zip Code\n\n\n\n    \n    \n\n\n    Payment Method\n        *\n    \n    		\n		CheckCredit (a 3% Convenience fee applies)Cash	\n	\n    \n    \n\n\nProducts\n\n\n\n    Butcher and Beer (Check/Cash)\n        \n    \n    		 Butcher and Beer (Check/cash): $18 per person\n\n    \n    \n\n\n    Quantity\n        \n    \n    \n    \n    \n\n\n    Butcher and Beer (Credit Card)\n        \n    \n    		 Butcher and Beer (Credit Card): $18 per person\n\n    \n    \n\n\n    Quantity\n        \n    \n    \n    \n    \n\n\n    Total\n     \n    \n    \n    \n\n\n\nClick here to make your credit card payment now! \nPayment purpose is "Comedy Night" \n\nPlease make checks payable to “NSJCC” and mail to the NSJCC\, 240 Lynnfield Street\, Peabody\, MA 01960.\n\n    Paid\n        *\n    \n    					\n					 Cash\n					\n					 Credit\n					\n					 Check\n					\n					 Not Paid Yet\n\n    \n    \n\n\n    Captcha\n        \n    \n    \n    \n    \n\n\n	\n\nSubmit Registration\n\n\n\n	\n			\n			\n				If you are human\, leave this field blank.
URL:https://nsjcc.org/event/butcher-and-beer/
LOCATION:Larry Levine’s Kosher Butcher\, 474 Lowell Street\, Peabody\, MA
END:VEVENT
BEGIN:VEVENT
DTSTART;TZID=America/New_York:20260322T130000
DTEND;TZID=America/New_York:20260322T143000
DTSTAMP:20260421T140034
CREATED:20260225T225310Z
LAST-MODIFIED:20260225T225310Z
UID:10000034-1774184400-1774189800@nsjcc.org
SUMMARY:Youth Group Event: Krav Maga
DESCRIPTION:  \nThis form is currently closed for submissions. Please contact Jodi Harold at jodih@nsjcc.org to be placed on a wait list.
URL:https://nsjcc.org/event/youth-group-event-krav-maga/
LOCATION:NSJCC
END:VEVENT
BEGIN:VEVENT
DTSTART;TZID=America/New_York:20260329T140000
DTEND;TZID=America/New_York:20260329T170000
DTSTAMP:20260421T140034
CREATED:20260106T120736Z
LAST-MODIFIED:20260204T144525Z
UID:10000031-1774792800-1774803600@nsjcc.org
SUMMARY:Annual Fashion Show
DESCRIPTION:
URL:https://nsjcc.org/event/annual-fashion-show/
LOCATION:Peabody Marriott\, 8A Centennial Drive\, Peabody\, MA\, 01960
END:VEVENT
BEGIN:VEVENT
DTSTART;TZID=America/New_York:20260416T190000
DTEND;TZID=America/New_York:20260416T203000
DTSTAMP:20260421T140034
CREATED:20260203T191151Z
LAST-MODIFIED:20260227T202946Z
UID:10000035-1776366000-1776371400@nsjcc.org
SUMMARY:Adult Krav Maga
DESCRIPTION:This form is currently closed for submissions.  Please e-mail Jodi Harold at jodih@nsjcc.org to get on the waiting list.
URL:https://nsjcc.org/event/adult-krav-maga/
LOCATION:NSJCC
END:VEVENT
BEGIN:VEVENT
DTSTART;TZID=America/New_York:20260503T130000
DTEND;TZID=America/New_York:20260503T150000
DTSTAMP:20260421T140034
CREATED:20260203T191050Z
LAST-MODIFIED:20260330T173826Z
UID:10000033-1777813200-1777820400@nsjcc.org
SUMMARY:Lag B'Omer Celebration
DESCRIPTION:2026 Lag B'Omer\n\n\n\n\n\n\n\n\n    First Name\n        *\n    \n    \n    \n    \n\n\n    Last Name\n        *\n    \n    \n    \n    \n\n\n	Street Address\n		*\n	\n	\n	\n	\n\n\n	City\n		*\n	\n	\n	\n	\n\n\n	Email\n		*\n	\n	\n	\n	\n\n\n    Phone\n        *\n    \n    \n    \n    \n\n\n    Number of adults attending\n        *\n    \n    \n    \n    \n\n\n    Number of children attending\n        *\n    \n    \n    \n    \n\n\n    Captcha\n        \n    \n    \n    \n    \n\n\n	\nRegister\n\n\n\n\n\n	\n			\n			\n				If you are human\, leave this field blank.
URL:https://nsjcc.org/event/lag-bomer-celebration/
LOCATION:Endicott Park\, 57 Forest Street\, Danvers\, Ma
END:VEVENT
BEGIN:VEVENT
DTSTART;TZID=America/New_York:20260517T130000
DTEND;TZID=America/New_York:20260517T143000
DTSTAMP:20260421T140034
CREATED:20260415T115939Z
LAST-MODIFIED:20260415T115939Z
UID:10000039-1779022800-1779028200@nsjcc.org
SUMMARY:Youth Group Event: Mini Golf
DESCRIPTION:2026 Mini Golf Grades 3-7\n\n\n\n\n\n\n\n\n    Child's First Name\n        *\n    \n    \n    \n    \n\n\n    Child's Last Name\n        *\n    \n    \n    \n    \n\n\n	Mailing Address\n		*\n	\n	\n	\n	\n\n\n	Email\n		*\n	\n	\n	\n	\n\n\n    Phone\n        *\n    \n    \n    \n    \n\n\n    How did you hear about our event?\n        *\n    \n    \n    \n    \n\n\n	Payment Options\n		\n	\n	\nMini Golf ($18 per person paying by check)Mini Golf ($18.54 per person paying by card)\n\n	\n	\n\n\nClick here to make your credit card payment now! \nPayment purpose is "Youth Group Mini Golf" \n\n\n    Captcha\n        \n    \n    \n    \n    \n\n\n	\nRegister\n\n\n\n\n\n	\n			\n			\n				If you are human\, leave this field blank.
URL:https://nsjcc.org/event/mini-golf/
LOCATION:Paradise GOlf\, 25 Lonergan Road\, Middleton\, MA
END:VEVENT
BEGIN:VEVENT
DTSTART;TZID=America/New_York:20260520T190000
DTEND;TZID=America/New_York:20260520T200000
DTSTAMP:20260421T140034
CREATED:20260226T205717Z
LAST-MODIFIED:20260413T171156Z
UID:10000036-1779303600-1779307200@nsjcc.org
SUMMARY:Resin Night
DESCRIPTION:  \n \n\n\n\n\n2026 Resin Night\n\n\n\n\n\n\n\n\n    Name\n        *\n    \n    \n    First Name\n    \n\n\n    Last Name\n        *\n    \n    \n    Last Name\n    \n\n\n    Email\n        *\n    \n    \n    \n    \n\n\n    Phone\n        *\n    \n    \n    \n    \n\n\n    Address\n        \n    \n    \n\n	Address\n\n\n	\n		Street Address	\n		\n	Street Address\n\n	\n		Street Address Line 2	\n		\n	Street Address Line 2\n\n	\n		City	\n		\n	City\n\n	\n		State / Province	\n		\n	State / Province\n\n	\n		Postal / Zip Code	\n		\n	Postal / Zip Code\n\n\n\n    \n    \n\n\n    Payment Method\n        *\n    \n    		\n		CheckCredit (a 3% Convenience fee applies)Cash	\n	\n    \n    \n\n\nProducts\n\n\n\n    Resin Night (Check/Cash)\n        \n    \n    		 Resin Night (Check/cash): $36 per person\n\n    \n    \n\n\n    Quantity\n        \n    \n    \n    \n    \n\n\n    Resin Night(Credit Card)\n        \n    \n    		 Resin Night (Credit Card): $36 per person\n\n    \n    \n\n\n    Quantity\n        \n    \n    \n    \n    \n\n\n    Total\n     \n    \n    \n    \n\n\n\nClick here to make your credit card payment now! \nPayment purpose is "Resin Night" \n\nPlease make checks payable to “NSJCC” and mail to the NSJCC\, 240 Lynnfield Street\, Peabody\, MA 01960.\n\n    Paid\n        *\n    \n    					\n					 Cash\n					\n					 Credit\n					\n					 Check\n					\n					 Not Paid Yet\n\n    \n    \n\n\n    Captcha\n        \n    \n    \n    \n    \n\n\n	\n\nSubmit Registration\n\n\n\n	\n			\n			\n				If you are human\, leave this field blank.
URL:https://nsjcc.org/event/resin-night/
LOCATION:Hammer and Stain\, 211 Rantoul Street\, Beverly\, MA
END:VEVENT
BEGIN:VEVENT
DTSTART;TZID=America/New_York:20260627T170000
DTEND;TZID=America/New_York:20260627T170000
DTSTAMP:20260421T140034
CREATED:20260311T182658Z
LAST-MODIFIED:20260325T204601Z
UID:10000037-1782579600-1782579600@nsjcc.org
SUMMARY:NSJCC Night at the NS Navigators Game
DESCRIPTION:2026 NS Navigators\n\n\n\n\n\n\n\n\n    Name\n        *\n    \n    \n    First Name\n    \n\n\n    Last Name\n        *\n    \n    \n    Last Name\n    \n\n\n    Email\n        *\n    \n    \n    \n    \n\n\n    Phone\n        *\n    \n    \n    \n    \n\n\n    Address\n        \n    \n    \n\n	Address\n\n\n	\n		Street Address	\n		\n	Street Address\n\n	\n		Street Address Line 2	\n		\n	Street Address Line 2\n\n	\n		City	\n		\n	City\n\n	\n		State / Province	\n		\n	State / Province\n\n	\n		Postal / Zip Code	\n		\n	Postal / Zip Code\n\n\n\n    \n    \n\n\n    Payment Method\n        *\n    \n    		\n		CheckCredit (a 3% Convenience fee applies)Cash	\n	\n    \n    \n\n\nProducts\n\n\n\n    NS Navigator Tickets (Check/Cash)\n        \n    \n    		 NS Navigator Ticket (Check/cash): $10 per person\n\n    \n    \n\n\n    Quantity\n        \n    \n    \n    \n    \n\n\n    NS Navigator Ticket (Credit Card)\n        \n    \n    		 NS Navigator Ticket  (Credit Card): $36 per person\n\n    \n    \n\n\n    Quantity\n        \n    \n    \n    \n    \n\n\n    Total\n     \n    \n    \n    \n\n\n\nClick here to make your credit card payment now! \nPayment purpose is "NS Nav's Game" \n\nPlease make checks payable to “NSJCC” and mail to the NSJCC\, 240 Lynnfield Street\, Peabody\, MA 01960.\n\n    Paid\n        *\n    \n    					\n					 Cash\n					\n					 Credit\n					\n					 Check\n					\n					 Not Paid Yet\n\n    \n    \n\n\n    Captcha\n        \n    \n    \n    \n    \n\n\n	\n\nSubmit Registration\n\n\n\n	\n			\n			\n				If you are human\, leave this field blank.
URL:https://nsjcc.org/event/nsnavigatorsgame/
LOCATION:Fraser Field\, 365 Western Ave\,\, Lynn\, MA\, United States
END:VEVENT
END:VCALENDAR