BEGIN:VCALENDAR
VERSION:2.0
PRODID:-//North Suburban Jewish Community Center - ECPv6.15.20//NONSGML v1.0//EN
CALSCALE:GREGORIAN
METHOD:PUBLISH
X-WR-CALNAME:North Suburban Jewish Community Center
X-ORIGINAL-URL:https://nsjcc.org
X-WR-CALDESC:Events for North Suburban Jewish Community Center
REFRESH-INTERVAL;VALUE=DURATION:PT1H
X-Robots-Tag:noindex
X-PUBLISHED-TTL:PT1H
BEGIN:VTIMEZONE
TZID:America/New_York
BEGIN:DAYLIGHT
TZOFFSETFROM:-0500
TZOFFSETTO:-0400
TZNAME:EDT
DTSTART:20230312T070000
END:DAYLIGHT
BEGIN:STANDARD
TZOFFSETFROM:-0400
TZOFFSETTO:-0500
TZNAME:EST
DTSTART:20231105T060000
END:STANDARD
BEGIN:DAYLIGHT
TZOFFSETFROM:-0500
TZOFFSETTO:-0400
TZNAME:EDT
DTSTART:20240310T070000
END:DAYLIGHT
BEGIN:STANDARD
TZOFFSETFROM:-0400
TZOFFSETTO:-0500
TZNAME:EST
DTSTART:20241103T060000
END:STANDARD
BEGIN:DAYLIGHT
TZOFFSETFROM:-0500
TZOFFSETTO:-0400
TZNAME:EDT
DTSTART:20250309T070000
END:DAYLIGHT
BEGIN:STANDARD
TZOFFSETFROM:-0400
TZOFFSETTO:-0500
TZNAME:EST
DTSTART:20251102T060000
END:STANDARD
END:VTIMEZONE
BEGIN:VTIMEZONE
TZID:UTC
BEGIN:STANDARD
TZOFFSETFROM:+0000
TZOFFSETTO:+0000
TZNAME:UTC
DTSTART:20220101T000000
END:STANDARD
END:VTIMEZONE
BEGIN:VEVENT
DTSTART;TZID=America/New_York:20241221T163000
DTEND;TZID=America/New_York:20241221T183000
DTSTAMP:20260421T174321
CREATED:20241120T210846Z
LAST-MODIFIED:20241125T170406Z
UID:10000010-1734798600-1734805800@nsjcc.org
SUMMARY:Hanukkah PJ Movie Night
DESCRIPTION:This form is currently closed for submissions. Please contact Jodi Harold at jodih@nsjcc.org.
URL:https://nsjcc.org/event/hanukkah-pj-movie-night/
ORGANIZER;CN="North Suburban Jewish Community Center":MAILTO:Jodih@nsjcc.org
END:VEVENT
BEGIN:VEVENT
DTSTART;TZID=America/New_York:20241213T173000
DTEND;TZID=America/New_York:20241213T183000
DTSTAMP:20260421T174321
CREATED:20241204T154228Z
LAST-MODIFIED:20241204T154512Z
UID:10000014-1734111000-1734114600@nsjcc.org
SUMMARY:Shabbat Shalom Cirlce
DESCRIPTION:
URL:https://nsjcc.org/event/shabbat-shalom-cirlce/
LOCATION:Temple Ner Tamid
END:VEVENT
BEGIN:VEVENT
DTSTART;TZID=America/New_York:20240922T093000
DTEND;TZID=America/New_York:20240922T103000
DTSTAMP:20260421T174321
CREATED:20240808T191501Z
LAST-MODIFIED:20240808T191935Z
UID:10000005-1726997400-1727001000@nsjcc.org
SUMMARY:Family Apple Picking at Brooksby
DESCRIPTION:This form is currently closed for submissions. Please contact Jodi Harold at jodih@nsjcc.org.
URL:https://nsjcc.org/event/apple-picking-at-brooksby/
LOCATION:Brooksby Farm\, 54 Felton Street\, Peabody\, MA
ORGANIZER;CN="North Suburban Jewish Community Center":MAILTO:Jodih@nsjcc.org
END:VEVENT
BEGIN:VEVENT
DTSTART;TZID=America/New_York:20240908T160000
DTEND;TZID=America/New_York:20240908T170000
DTSTAMP:20260421T174321
CREATED:20240808T191820Z
LAST-MODIFIED:20240809T123029Z
UID:10000006-1725811200-1725814800@nsjcc.org
SUMMARY:Ice Cream at JP Licks
DESCRIPTION:This form is currently closed for submissions. Please contact Jodi Harold at jodih@nsjcc.org.
URL:https://nsjcc.org/event/ice-cream-at-jp-licks/
LOCATION:JP Licks ay Lynnfield Market\, 800 Marketstreet\, Lynnfield\, MA
ORGANIZER;CN="North Suburban Jewish Community Center":MAILTO:Jodih@nsjcc.org
END:VEVENT
BEGIN:VEVENT
DTSTART;TZID=America/New_York:20240804T100000
DTEND;TZID=America/New_York:20240804T110000
DTSTAMP:20260421T174321
CREATED:20240611T182016Z
LAST-MODIFIED:20240611T182831Z
UID:10000004-1722765600-1722769200@nsjcc.org
SUMMARY:Summer Meet-Ups 2024
DESCRIPTION:
URL:https://nsjcc.org/event/summer-meet-ups-2024/2024-08-04/
ATTACH;FMTTYPE=image/png:https://nsjcc.org/wp-content/uploads/2024/06/Summer-Meet-ups-1.png
ORGANIZER;CN="North Suburban Jewish Community Center":MAILTO:Jodih@nsjcc.org
END:VEVENT
BEGIN:VEVENT
DTSTART;TZID=America/New_York:20240714T100000
DTEND;TZID=America/New_York:20240714T110000
DTSTAMP:20260421T174321
CREATED:20240611T182016Z
LAST-MODIFIED:20240611T182831Z
UID:10000003-1720951200-1720954800@nsjcc.org
SUMMARY:Summer Meet-Ups 2024
DESCRIPTION:
URL:https://nsjcc.org/event/summer-meet-ups-2024/2024-07-14/
ATTACH;FMTTYPE=image/png:https://nsjcc.org/wp-content/uploads/2024/06/Summer-Meet-ups-1.png
ORGANIZER;CN="North Suburban Jewish Community Center":MAILTO:Jodih@nsjcc.org
END:VEVENT
BEGIN:VEVENT
DTSTART;TZID=UTC:20240519T130000
DTEND;TZID=UTC:20240519T143000
DTSTAMP:20260421T174321
CREATED:20240410T200742Z
LAST-MODIFIED:20240410T200742Z
UID:10000001-1716123600-1716129000@nsjcc.org
SUMMARY:S’mores Picnic in the Park 24
DESCRIPTION:Games\, music\, s’mores and more!\nThis is a free community event. Registration is requested\, so we may properly estimate the amount of snacks and s’mores. Seating is limited – BYOC (bring your own chairs).\nIf this event needs to be postponed due to weather\, this page will be updated and everyone who has registered\, will receive an email.
URL:https://nsjcc.org/event/smores-picnic-in-the-park-24/
LOCATION:Ipswich River Park\, 15 Central Street\, North Reading\, MA\, 01864\, United States
ATTACH;FMTTYPE=image/png:https://nsjcc.org/wp-content/uploads/2024/04/Log.png
ORGANIZER;CN="North Suburban Jewish Community Center":MAILTO:Jodih@nsjcc.org
END:VEVENT
BEGIN:VEVENT
DTSTART;TZID=UTC:20230430T130000
DTEND;TZID=UTC:20230430T150000
DTSTAMP:20260421T174321
CREATED:20240410T203200Z
LAST-MODIFIED:20240410T203200Z
UID:10000002-1682859600-1682866800@nsjcc.org
SUMMARY:Birthday Party for Israel!
DESCRIPTION:Join us for a festive afternoon of activities!\nArts\, crafts\, games\, bounce house\, and more!\nThe program is free! Everyone is welcome! Register here or at LappinFoundation.org. \n 
URL:https://nsjcc.org/event/birthday-party-for-israel/
LOCATION:Temple B’nai Abraham\, 200 E. Lothrop Street\, Beverly\, MA\, United States
ATTACH;FMTTYPE=image/jpeg:https://nsjcc.org/wp-content/uploads/2024/04/Lappin-A-Birthday-Party-for-Israel-Flyer-4.30.23.jpg
END:VEVENT
END:VCALENDAR