BEGIN:VCALENDAR
VERSION:2.0
PRODID:-//North Suburban Jewish Community Center - ECPv6.15.20//NONSGML v1.0//EN
CALSCALE:GREGORIAN
METHOD:PUBLISH
X-ORIGINAL-URL:https://nsjcc.org
X-WR-CALDESC:Events for North Suburban Jewish Community Center
REFRESH-INTERVAL;VALUE=DURATION:PT1H
X-Robots-Tag:noindex
X-PUBLISHED-TTL:PT1H
BEGIN:VTIMEZONE
TZID:America/New_York
BEGIN:DAYLIGHT
TZOFFSETFROM:-0500
TZOFFSETTO:-0400
TZNAME:EDT
DTSTART:20250309T070000
END:DAYLIGHT
BEGIN:STANDARD
TZOFFSETFROM:-0400
TZOFFSETTO:-0500
TZNAME:EST
DTSTART:20251102T060000
END:STANDARD
BEGIN:DAYLIGHT
TZOFFSETFROM:-0500
TZOFFSETTO:-0400
TZNAME:EDT
DTSTART:20260308T070000
END:DAYLIGHT
BEGIN:STANDARD
TZOFFSETFROM:-0400
TZOFFSETTO:-0500
TZNAME:EST
DTSTART:20261101T060000
END:STANDARD
BEGIN:DAYLIGHT
TZOFFSETFROM:-0500
TZOFFSETTO:-0400
TZNAME:EDT
DTSTART:20270314T070000
END:DAYLIGHT
BEGIN:STANDARD
TZOFFSETFROM:-0400
TZOFFSETTO:-0500
TZNAME:EST
DTSTART:20271107T060000
END:STANDARD
END:VTIMEZONE
BEGIN:VEVENT
DTSTART;TZID=America/New_York:20260105T080000
DTEND;TZID=America/New_York:20260129T170000
DTSTAMP:20260421T135859
CREATED:20260106T120158Z
LAST-MODIFIED:20260106T120158Z
UID:10000029-1767600000-1769706000@nsjcc.org
SUMMARY:Pizza Voucher Fundraiser
DESCRIPTION:  \nThis form is currently closed for submissions.
URL:https://nsjcc.org/event/pizza-vouchers/
LOCATION:MA
END:VEVENT
BEGIN:VEVENT
DTSTART;TZID=America/New_York:20260110T181500
DTEND;TZID=America/New_York:20260110T210000
DTSTAMP:20260421T135859
CREATED:20251113T164636Z
LAST-MODIFIED:20260103T160115Z
UID:10000028-1768068900-1768078800@nsjcc.org
SUMMARY:Adult Comedy Show at Granite Coast Brewery
DESCRIPTION:  \n \nThis form is currently closed for submissions.
URL:https://nsjcc.org/event/comedy-show/
LOCATION:MA
END:VEVENT
BEGIN:VEVENT
DTSTART;TZID=America/New_York:20260125T130000
DTEND;TZID=America/New_York:20260125T143000
DTSTAMP:20260421T135859
CREATED:20251218T152443Z
LAST-MODIFIED:20251218T152443Z
UID:10000030-1769346000-1769351400@nsjcc.org
SUMMARY:Laser Tag for Grade 3-7
DESCRIPTION:2026 Laser Tag for Grades 3-7\n\n\n\n\n\n\n\n\n    Child's First Name\n        *\n    \n    \n    \n    \n\n\n    Child's Last Name\n        *\n    \n    \n    \n    \n\n\n	Mailing Address\n		*\n	\n	\n	\n	\n\n\n	Email\n		*\n	\n	\n	\n	\n\n\n    Phone\n        *\n    \n    \n    \n    \n\n\n    How did you hear about our event?\n        *\n    \n    \n    \n    \n\n\n	Payment Options\n		\n	\n	\nLaser Tag ($25 per person paying by check)Laser Tag ($25.75 per person paying by card)\n\n	\n	\n\n\nClick here to make your credit card payment now! \nPayment purpose is "Youth Group Laser Tag" \n\n\n    Captcha\n        \n    \n    \n    \n    \n\n\n	\nRegister\n\n\n\n\n\n	\n			\n			\n				If you are human\, leave this field blank.
URL:https://nsjcc.org/event/laser-tag/
LOCATION:LaserMaxx\, 139 Endicott St\, Danvers\, MA
END:VEVENT
BEGIN:VEVENT
DTSTART;TZID=America/New_York:20260129T180000
DTEND;TZID=America/New_York:20260129T200000
DTSTAMP:20260421T135859
CREATED:20251028T150002Z
LAST-MODIFIED:20251201T201301Z
UID:10000026-1769709600-1769716800@nsjcc.org
SUMMARY:Tu B'shvat Flowering Arranging
DESCRIPTION:2026 Tu B'Shvat Flower Arranging\n\n\n\n\n\n\n\n\n    First Name\n        *\n    \n    \n    \n    \n\n\n    Last Name\n        *\n    \n    \n    \n    \n\n\n	Mailing Address\n		*\n	\n	\n	\n	\n\n\n	Email\n		*\n	\n	\n	\n	\n\n\n    Phone\n        *\n    \n    \n    \n    \n\n\n    How did you hear about our event?\n        *\n    \n    \n    \n    \n\n\n	Payment Options\n		\n	\n	\nFlower Arranging ($36 per person paying by check)Flower Arranging ($37.08 per person paying by card)\n\n	\n	\n\n\nClick here to make your credit card payment now! \nPayment purpose is "Flower Arranging" \n\n\n    Captcha\n        \n    \n    \n    \n    \n\n\n	\nRegister\n\n\n\n\n\n	\n			\n			\n				If you are human\, leave this field blank.
URL:https://nsjcc.org/event/tu-bshvat-flowering-arranging/
LOCATION:Sol bean\, 221 S Main Street\, Middleton\, MA
END:VEVENT
END:VCALENDAR