BEGIN:VCALENDAR
VERSION:2.0
PRODID:-//North Suburban Jewish Community Center - ECPv6.15.20//NONSGML v1.0//EN
CALSCALE:GREGORIAN
METHOD:PUBLISH
X-WR-CALNAME:North Suburban Jewish Community Center
X-ORIGINAL-URL:https://nsjcc.org
X-WR-CALDESC:Events for North Suburban Jewish Community Center
REFRESH-INTERVAL;VALUE=DURATION:PT1H
X-Robots-Tag:noindex
X-PUBLISHED-TTL:PT1H
BEGIN:VTIMEZONE
TZID:America/New_York
BEGIN:DAYLIGHT
TZOFFSETFROM:-0500
TZOFFSETTO:-0400
TZNAME:EDT
DTSTART:20240310T070000
END:DAYLIGHT
BEGIN:STANDARD
TZOFFSETFROM:-0400
TZOFFSETTO:-0500
TZNAME:EST
DTSTART:20241103T060000
END:STANDARD
BEGIN:DAYLIGHT
TZOFFSETFROM:-0500
TZOFFSETTO:-0400
TZNAME:EDT
DTSTART:20250309T070000
END:DAYLIGHT
BEGIN:STANDARD
TZOFFSETFROM:-0400
TZOFFSETTO:-0500
TZNAME:EST
DTSTART:20251102T060000
END:STANDARD
BEGIN:DAYLIGHT
TZOFFSETFROM:-0500
TZOFFSETTO:-0400
TZNAME:EDT
DTSTART:20260308T070000
END:DAYLIGHT
BEGIN:STANDARD
TZOFFSETFROM:-0400
TZOFFSETTO:-0500
TZNAME:EST
DTSTART:20261101T060000
END:STANDARD
END:VTIMEZONE
BEGIN:VEVENT
DTSTART;TZID=America/New_York:20250928T133000
DTEND;TZID=America/New_York:20250928T153000
DTSTAMP:20260420T034110
CREATED:20250826T181915Z
LAST-MODIFIED:20250922T112754Z
UID:10000023-1759066200-1759073400@nsjcc.org
SUMMARY:Corn Maze Event for Grades 3-7
DESCRIPTION:This form is currently closed for submissions. Please contact Jodi Harold at jodih@nsjcc.org.
URL:https://nsjcc.org/event/corn-maze-event-for-grades-3-7/
LOCATION:Marini Farm\, 259 Linebrook Rd\, Ipswich\, MA
END:VEVENT
END:VCALENDAR